BEGIN:VCALENDAR
VERSION:2.0
PRODID:-//Coast and Ocean Risk Communication Community of Practice - ECPv6.15.20//NONSGML v1.0//EN
CALSCALE:GREGORIAN
METHOD:PUBLISH
X-WR-CALNAME:Coast and Ocean Risk Communication Community of Practice
X-ORIGINAL-URL:https://corccop.com
X-WR-CALDESC:Events for Coast and Ocean Risk Communication Community of Practice
REFRESH-INTERVAL;VALUE=DURATION:PT1H
X-Robots-Tag:noindex
X-PUBLISHED-TTL:PT1H
BEGIN:VTIMEZONE
TZID:UTC
BEGIN:STANDARD
TZOFFSETFROM:+0000
TZOFFSETTO:+0000
TZNAME:UTC
DTSTART:20240101T000000
END:STANDARD
END:VTIMEZONE
BEGIN:VEVENT
DTSTART;VALUE=DATE:20250204
DTEND;VALUE=DATE:20250206
DTSTAMP:20260424T105230
CREATED:20240925T191223Z
LAST-MODIFIED:20240925T191223Z
UID:2309-1738627200-1738799999@corccop.com
SUMMARY:CAT IQ Connect
DESCRIPTION:Bringing Together Industry\, Academia\, and Government to Discuss Canadian Natural and Human-Made Catastrophes \nCatIQ Connect is a content-driven discussion to foster collaboration before\, during\, and after catastrophic events. \nCatIQ Connect provides a detailed overview of catastrophes\, discusses strategies in catastrophe management\, and explores sector perspectives. Overall themes are preparedness and resiliency\, available tools\, and impacted stakeholders and policymakers working together for the greater good of all Canadians. \nCatIQ Connect 2025 will take place at the Metro Toronto Convention Centre\, February 4 – 5\, 2025.
URL:https://corccop.com/event/cat-iq-connect/
END:VEVENT
END:VCALENDAR