BEGIN:VCALENDAR
VERSION:2.0
PRODID:-//Coast and Ocean Risk Communication Community of Practice - ECPv6.15.20//NONSGML v1.0//EN
CALSCALE:GREGORIAN
METHOD:PUBLISH
X-WR-CALNAME:Coast and Ocean Risk Communication Community of Practice
X-ORIGINAL-URL:https://corccop.com
X-WR-CALDESC:Events for Coast and Ocean Risk Communication Community of Practice
REFRESH-INTERVAL;VALUE=DURATION:PT1H
X-Robots-Tag:noindex
X-PUBLISHED-TTL:PT1H
BEGIN:VTIMEZONE
TZID:America/Halifax
BEGIN:DAYLIGHT
TZOFFSETFROM:-0400
TZOFFSETTO:-0300
TZNAME:ADT
DTSTART:20170312T060000
END:DAYLIGHT
BEGIN:STANDARD
TZOFFSETFROM:-0300
TZOFFSETTO:-0400
TZNAME:AST
DTSTART:20171105T050000
END:STANDARD
BEGIN:DAYLIGHT
TZOFFSETFROM:-0400
TZOFFSETTO:-0300
TZNAME:ADT
DTSTART:20180311T060000
END:DAYLIGHT
BEGIN:STANDARD
TZOFFSETFROM:-0300
TZOFFSETTO:-0400
TZNAME:AST
DTSTART:20181104T050000
END:STANDARD
BEGIN:DAYLIGHT
TZOFFSETFROM:-0400
TZOFFSETTO:-0300
TZNAME:ADT
DTSTART:20190310T060000
END:DAYLIGHT
BEGIN:STANDARD
TZOFFSETFROM:-0300
TZOFFSETTO:-0400
TZNAME:AST
DTSTART:20191103T050000
END:STANDARD
END:VTIMEZONE
BEGIN:VEVENT
DTSTART;TZID=America/Halifax:20180614T103000
DTEND;TZID=America/Halifax:20180614T120000
DTSTAMP:20260425T122135
CREATED:20180606T010519Z
LAST-MODIFIED:20180608T203550Z
UID:156-1528972200-1528977600@corccop.com
SUMMARY:Risk Communication at the Local Level (CMOS Panel Session)
DESCRIPTION:Panelists: Max Liboiron (MUN)\, Rodd Laing (Gov’t of Nunatsiavut)\, and Alex Zahara (MUN). \nHost: Joel Finnis \nResearch on science and risk communication has consistently emphasized the importance of collaboration between impacted communities (‘publics’) and accredited expert groups (whether government agencies\, academia\, industry\, or NGOs)\, in order to foster trust and ensure community needs are being accounted for. Although meaningful community collaboration can be difficult to achieve\, it potentially avoids problems of one-way expert-to-public communication\, which assumes risk is effectively mitigated by increasing public attention to expert knowledge. This ‘information deficit’ communication model privileges accredited expert perceptions of what constitutes relevant\, timely\, and accessible communication against local expertise and contexts. Communities can differ considerably from experts in their interpretation of these characteristics\, beginning with how risks are defined and prioritized. While many agencies have no direct experience of a specific hazard or impacted activities\, community knowledge is always a factor when receiving outside information. For example\, ‘timely’ monitoring of hazards by accredited experts may be poorly received by communities that prioritize prevention\, especially when hazards are understood by communities to be long-term and ongoing (e.g. the “event” of methyl mercury contamination as a consequence of hydro-electric development against a long-term trend of extraction and encroachment). Finally\, efforts to improve ‘accessibility’ often focus on delivering streamlined\, simple messaging around nuanced problems; this can become an issue when communities are accustomed to navigating complexity\, and are aware that higher level information exists but is not disseminated. These disconnections are less likely to occur if communities and risk-related agencies actively collaborate on research and risk communication/management planning. These concerns\, and ways forward\, will be addressed in a panel discussion\, with input from social/natural scientists and environmental managers\, sharing lessons drawn from their recent collaborations on plastic pollution\, sea ice stability\, Muskrat Falls flooding and contamination\, and wildfire management.
URL:https://corccop.com/event/cmos-town-hall-panel-host-joel-finnis-risk-communication-at-the-local-level/
LOCATION:Halifax Convention Centre\, 1650 Argyle St\, Halifax\, Nova Scotia\, B3J 0E6\, Canada
END:VEVENT
END:VCALENDAR