BEGIN:VCALENDAR
VERSION:2.0
PRODID:-//Coast and Ocean Risk Communication Community of Practice - ECPv6.15.20//NONSGML v1.0//EN
CALSCALE:GREGORIAN
METHOD:PUBLISH
X-ORIGINAL-URL:https://corccop.com
X-WR-CALDESC:Events for Coast and Ocean Risk Communication Community of Practice
REFRESH-INTERVAL;VALUE=DURATION:PT1H
X-Robots-Tag:noindex
X-PUBLISHED-TTL:PT1H
BEGIN:VTIMEZONE
TZID:UTC
BEGIN:STANDARD
TZOFFSETFROM:+0000
TZOFFSETTO:+0000
TZNAME:UTC
DTSTART:20170101T000000
END:STANDARD
END:VTIMEZONE
BEGIN:VTIMEZONE
TZID:America/Toronto
BEGIN:DAYLIGHT
TZOFFSETFROM:-0500
TZOFFSETTO:-0400
TZNAME:EDT
DTSTART:20180311T070000
END:DAYLIGHT
BEGIN:STANDARD
TZOFFSETFROM:-0400
TZOFFSETTO:-0500
TZNAME:EST
DTSTART:20181104T060000
END:STANDARD
BEGIN:DAYLIGHT
TZOFFSETFROM:-0500
TZOFFSETTO:-0400
TZNAME:EDT
DTSTART:20190310T070000
END:DAYLIGHT
BEGIN:STANDARD
TZOFFSETFROM:-0400
TZOFFSETTO:-0500
TZNAME:EST
DTSTART:20191103T060000
END:STANDARD
BEGIN:DAYLIGHT
TZOFFSETFROM:-0500
TZOFFSETTO:-0400
TZNAME:EDT
DTSTART:20200308T070000
END:DAYLIGHT
BEGIN:STANDARD
TZOFFSETFROM:-0400
TZOFFSETTO:-0500
TZNAME:EST
DTSTART:20201101T060000
END:STANDARD
END:VTIMEZONE
BEGIN:VTIMEZONE
TZID:America/Vancouver
BEGIN:DAYLIGHT
TZOFFSETFROM:-0800
TZOFFSETTO:-0700
TZNAME:PDT
DTSTART:20170312T100000
END:DAYLIGHT
BEGIN:STANDARD
TZOFFSETFROM:-0700
TZOFFSETTO:-0800
TZNAME:PST
DTSTART:20171105T090000
END:STANDARD
BEGIN:DAYLIGHT
TZOFFSETFROM:-0800
TZOFFSETTO:-0700
TZNAME:PDT
DTSTART:20180311T100000
END:DAYLIGHT
BEGIN:STANDARD
TZOFFSETFROM:-0700
TZOFFSETTO:-0800
TZNAME:PST
DTSTART:20181104T090000
END:STANDARD
BEGIN:DAYLIGHT
TZOFFSETFROM:-0800
TZOFFSETTO:-0700
TZNAME:PDT
DTSTART:20190310T100000
END:DAYLIGHT
BEGIN:STANDARD
TZOFFSETFROM:-0700
TZOFFSETTO:-0800
TZNAME:PST
DTSTART:20191103T090000
END:STANDARD
BEGIN:DAYLIGHT
TZOFFSETFROM:-0800
TZOFFSETTO:-0700
TZNAME:PDT
DTSTART:20200308T100000
END:DAYLIGHT
BEGIN:STANDARD
TZOFFSETFROM:-0700
TZOFFSETTO:-0800
TZNAME:PST
DTSTART:20201101T090000
END:STANDARD
END:VTIMEZONE
BEGIN:VTIMEZONE
TZID:America/New_York
BEGIN:DAYLIGHT
TZOFFSETFROM:-0500
TZOFFSETTO:-0400
TZNAME:EDT
DTSTART:20180311T070000
END:DAYLIGHT
BEGIN:STANDARD
TZOFFSETFROM:-0400
TZOFFSETTO:-0500
TZNAME:EST
DTSTART:20181104T060000
END:STANDARD
BEGIN:DAYLIGHT
TZOFFSETFROM:-0500
TZOFFSETTO:-0400
TZNAME:EDT
DTSTART:20190310T070000
END:DAYLIGHT
BEGIN:STANDARD
TZOFFSETFROM:-0400
TZOFFSETTO:-0500
TZNAME:EST
DTSTART:20191103T060000
END:STANDARD
BEGIN:DAYLIGHT
TZOFFSETFROM:-0500
TZOFFSETTO:-0400
TZNAME:EDT
DTSTART:20200308T070000
END:DAYLIGHT
BEGIN:STANDARD
TZOFFSETFROM:-0400
TZOFFSETTO:-0500
TZNAME:EST
DTSTART:20201101T060000
END:STANDARD
END:VTIMEZONE
BEGIN:VTIMEZONE
TZID:America/Los_Angeles
BEGIN:DAYLIGHT
TZOFFSETFROM:-0800
TZOFFSETTO:-0700
TZNAME:PDT
DTSTART:20170312T100000
END:DAYLIGHT
BEGIN:STANDARD
TZOFFSETFROM:-0700
TZOFFSETTO:-0800
TZNAME:PST
DTSTART:20171105T090000
END:STANDARD
BEGIN:DAYLIGHT
TZOFFSETFROM:-0800
TZOFFSETTO:-0700
TZNAME:PDT
DTSTART:20180311T100000
END:DAYLIGHT
BEGIN:STANDARD
TZOFFSETFROM:-0700
TZOFFSETTO:-0800
TZNAME:PST
DTSTART:20181104T090000
END:STANDARD
BEGIN:DAYLIGHT
TZOFFSETFROM:-0800
TZOFFSETTO:-0700
TZNAME:PDT
DTSTART:20190310T100000
END:DAYLIGHT
BEGIN:STANDARD
TZOFFSETFROM:-0700
TZOFFSETTO:-0800
TZNAME:PST
DTSTART:20191103T090000
END:STANDARD
END:VTIMEZONE
BEGIN:VTIMEZONE
TZID:America/Halifax
BEGIN:DAYLIGHT
TZOFFSETFROM:-0400
TZOFFSETTO:-0300
TZNAME:ADT
DTSTART:20170312T060000
END:DAYLIGHT
BEGIN:STANDARD
TZOFFSETFROM:-0300
TZOFFSETTO:-0400
TZNAME:AST
DTSTART:20171105T050000
END:STANDARD
BEGIN:DAYLIGHT
TZOFFSETFROM:-0400
TZOFFSETTO:-0300
TZNAME:ADT
DTSTART:20180311T060000
END:DAYLIGHT
BEGIN:STANDARD
TZOFFSETFROM:-0300
TZOFFSETTO:-0400
TZNAME:AST
DTSTART:20181104T050000
END:STANDARD
BEGIN:DAYLIGHT
TZOFFSETFROM:-0400
TZOFFSETTO:-0300
TZNAME:ADT
DTSTART:20190310T060000
END:DAYLIGHT
BEGIN:STANDARD
TZOFFSETFROM:-0300
TZOFFSETTO:-0400
TZNAME:AST
DTSTART:20191103T050000
END:STANDARD
END:VTIMEZONE
BEGIN:VEVENT
DTSTART;VALUE=DATE:20190506
DTEND;VALUE=DATE:20190511
DTSTAMP:20260424T002104
CREATED:20190426T185631Z
LAST-MODIFIED:20190426T190019Z
UID:731-1557100800-1557532799@corccop.com
SUMMARY:The Climate-Resilient Coastal Natural Infrastructure Workshop and ACCESS 2019
DESCRIPTION:This combined event will connect coastal practitioners\, coastal engineers\, natural and social scientists\, professors\, students\, planners\, politicians\, and Indigenous groups. Working towards the application\, implementation\, and delivery of nature-based adaptations to climate change\, and the latest in coastal & estuarine science! \nHosted by: TransCoastal Adaptations: Centre for Nature-based Solutions\, ACCESS\, and The Cold Regions Living Shorelines Community of Practice (CRLS CoP)\, part of Coastal Zone Canada Association. \nEvent Website \nEvent Registration Here \n 
URL:https://corccop.com/event/the-climate-resilient-coastal-natural-infrastructure-workshop-and-access-2019/
LOCATION:St Mary’s University\, 923 Robie Street\,\, Halifax\, Nova Scotia\, Canada
END:VEVENT
BEGIN:VEVENT
DTSTART;TZID=America/Toronto:20190418T130000
DTEND;TZID=America/Toronto:20190418T140000
DTSTAMP:20260424T002104
CREATED:20190404T153047Z
LAST-MODIFIED:20190404T153924Z
UID:704-1555592400-1555596000@corccop.com
SUMMARY:CCACoP Webinar: Canada’s Changing Climate Report – An Overview
DESCRIPTION:Register for Webinar Here \nHosted by the Climate Change Adaptation Community of Practice (CCACoP) and led by Environment and Climate Change Canada\, this webinar focuses on the recently-released report\, Canada’s Changing Climate\, which details how and why Canada’s climate has changed and what changes are projected for the future.This document is the first of a series to be released as part of Canada in a Changing Climate: Advancing our Knowledge for Action. It documents changes across Canada in temperature\, precipitation\, snow\, ice\, permafrost and freshwater availability as well as in Canada’s three oceans. \nPresenters: \nElizabeth Bush (Project Lead\, Canada’s Changing Climate Report\, Environment and Climate Change Canada) \nOthers TBD
URL:https://corccop.com/event/ccacop-webinar-canadas-changing-climate-report-an-overview/
LOCATION:CCACoP
END:VEVENT
BEGIN:VEVENT
DTSTART;TZID=America/Toronto:20190312T140000
DTEND;TZID=America/Toronto:20190312T150000
DTSTAMP:20260424T002104
CREATED:20190307T183528Z
LAST-MODIFIED:20190307T183734Z
UID:679-1552399200-1552402800@corccop.com
SUMMARY:Webinar: SmartICE Sea Ice Monitoring & Information - Adapting to Climate Change
DESCRIPTION:Join us in learning more about SmartICE\, an award-winning technological innovation for the North\, which was first developed in Newfoundland and Labrador through collaboration with northern communities\, including Nain and Pond Inlet. SmartICE is the world’s first climate change adaptation tool to integrate Inuit traditional knowledge of sea ice with advanced data acquisition and remote monitoring technology to provide data-driven insights into sea-ice thickness and local ice conditions in real-time\, to support safer travel on ice. SmartICE embraces a social enterprise business model that aims to expand opportunities for economic and social development in northern communities while preserving local cultures and lifestyles. Learn about how SmartICE works\, which communities are participating\, and how to become involved.  Please note this webinar will be offered in English and Inuktitut. \nREGISTER HERE \nPresenters \n\nCarolann Harding (Executive Director\, SmartICE Sea Ice Monitoring & Information Inc.)\nAndrew Arreak (Nunavut Operations Lead\, SmartICE Sea Ice Monitoring & Information Inc.)\n\nFacilitator \n\nEric Bing (Transport Canada)
URL:https://corccop.com/event/webinar-smartice-sea-ice-monitoring-information-adapting-to-climate-change/
END:VEVENT
BEGIN:VEVENT
DTSTART;TZID=America/Vancouver:20190227T100000
DTEND;TZID=America/Vancouver:20190227T113000
DTSTAMP:20260424T002104
CREATED:20190213T194638Z
LAST-MODIFIED:20190213T195738Z
UID:657-1551261600-1551267000@corccop.com
SUMMARY:Webinar: Information and Tools to Support Transportation Adaptation
DESCRIPTION:Hosted by Climate Change Adaptation Community of Practice \n\n\nFacilitator:  Elizabeth Smalley (Manager of the Adaptation Policy Team\, Transport Canada)\n\n\n\n\n\n\nPresenters:  Marianne Armstrong (National Research Council);Lo Cheng (Canadian Centre for Climate Services\, Environment and Climate Change Canada); and Elizabeth Bush (Environment and Climate Change Canada)\n\n\n\n\n\nRegister for webinar here \nDESCRIPTION \nThe webinar will focus on three federally-led climate initiatives of interest to the transportation sector: \n– The transportation aspects of the Climate-Resilient Buildings and Core Public Infrastructure Initiative (National Research Council and Infrastructure Canada)\, including work underway to inform the update of the Canadian Standards Association’s Canadian Highway Bridge Design Code to account for a changing climate and the creation of guidelines for monitoring rail tracks for the effects of freeze/thaw in response to the needs of the Canadian Urban Transit Association; \n– An overview of the Canadian Centre for Climate Services (Environment and Climate Change Canada)\, which provides climate information and data to Canadians to support decision making; \n– An update on the development of Canada’s Changing Climate Report\, a contribution to the National Assessment – Canada in a Changing Climate: Advancing our Knowledge for Action. This report assesses how Canada’s climate has changed\, why and what changes are projected for the future\, and will help inform mitigation and adaptation decision-making\, and increase public awareness and understanding of Canada’s changing climate. \nVisit Climate Change Adaptation Community of Practice Website: https://www.ccadaptation.ca/en/landing
URL:https://corccop.com/event/webinar-information-and-tools-to-support-transportation-adaptation/
END:VEVENT
BEGIN:VEVENT
DTSTART;TZID=America/Vancouver:20190207T110000
DTEND;TZID=America/Vancouver:20190207T123000
DTSTAMP:20260424T002104
CREATED:20190201T211433Z
LAST-MODIFIED:20190201T211433Z
UID:649-1549537200-1549542600@corccop.com
SUMMARY:Webinar: Seven Best Practices for Risk Communication (NOAA)
DESCRIPTION:Understanding risk is a key component for initiatives focused on helping communities prepare for and respond to weather and climate hazards. This interactive webinar introduces participants to seven best practices\, numerous techniques\, and examples for communicating about coastal hazards. Whether beginning a new effort or trying to keep people motivated to better prepare for future hazards\, applying risk communication principles will lead to more effective results. \n90 minute free webinar 2pm to 3:30 pm Eastern Standard Time (UTC-5) / 11am – 2:30 pm (UTC-8) Pacific Standard Time \nMore Information: https://coast.noaa.gov/digitalcoast/training/risk-communication.html \n  \n 
URL:https://corccop.com/event/webinar-seven-best-practices-for-risk-communication-noaa/
END:VEVENT
BEGIN:VEVENT
DTSTART;VALUE=DATE:20190204
DTEND;VALUE=DATE:20190207
DTSTAMP:20260424T002104
CREATED:20181126T190712Z
LAST-MODIFIED:20181126T190712Z
UID:632-1549238400-1549497599@corccop.com
SUMMARY:CatIQ's Canadian Catastrophe Conference
DESCRIPTION:CatIQ Connect (formerly C4) is a content-driven discussion to foster collaboration before\, during and after catastrophic events. This conference provides a content driven overview of catastrophes\, discusses strategies in catastrophe management and explores sector perspectives. Overall themes are on preparedness and resiliency\, available tools\, and impacted stakeholder and policy makers working together for the greater good of all Canadians.
URL:https://corccop.com/event/catiqs-canadian-catastrophe-conference/
LOCATION:Metro Toronto Convention Centre\, 55 Front St W\, Toronto\, Ontario\, M5V 2W6\, Canada
END:VEVENT
BEGIN:VEVENT
DTSTART;TZID=UTC:20181202T080000
DTEND;TZID=UTC:20181206T170000
DTSTAMP:20260424T002104
CREATED:20181026T145945Z
LAST-MODIFIED:20181026T145945Z
UID:569-1543737600-1544115600@corccop.com
SUMMARY:The Many Faces of Risk - Society For Risk Analysis Annual Meeting 2018
DESCRIPTION:Join us in New Orleans\, LA for this year’s SRA Annual Meeting from December 2-6\, 2018 for the premier opportunity to discuss all avenues of risk analysis with other risk enthusiasts from around the globe. This year’s theme\, “The Many Faces of Risk\,” is intended to showcase inclusion\, a cornerstone of SRA and vital to the ability to address today’s most pressing risk issues. The theme underscores the diversity of SRA in terms of the professions\, disciplines\, methodologies\, nationalities\, and regions its membership represents. It also highlights the staggering array of topics that SRA members and meeting participants explore in their research and practice.
URL:https://corccop.com/event/the-many-faces-of-risk-society-for-risk-analysis-annual-meeting-2018/
LOCATION:Marriott New Orleans\, 555 Canal St\, New Orleans\, LA\, United States
END:VEVENT
BEGIN:VEVENT
DTSTART;TZID=America/Los_Angeles:20181120T100000
DTEND;TZID=America/Los_Angeles:20181120T110000
DTSTAMP:20260424T002104
CREATED:20181002T163805Z
LAST-MODIFIED:20181009T183350Z
UID:539-1542708000-1542711600@corccop.com
SUMMARY:Webinar: What’s that Sound? Public and Official Perceptions of the January 2018 Tsunami Warning and Evacuation in the Alberni Valley
DESCRIPTION:REGISTER HERE \nMEOPAR’s Coast and Ocean Risk Communication Community of Practice (CORC CoP) is excited to host this free webinar\, presented by Ryan Reynolds and Alexa Tanner from the University of British Columbia on November 20\, 2018 from 10am to 11am Pacific time (Vancouver). \nImagine being woken up at 3AM by a loud siren and verbal warning to evacuate your home because a tsunami is expected to arrive soon. That was the situation the people of Port Alberni faced in the early hours of January 23rd of this year. It had been over fifty years since the Alberni Valley had been devastated by a tsunami following an earthquake in Alaska\, and over 10 years since the last warning was issued. \nThankfully\, this time there was no tsunami\, but for many the events of that morning remain vivid. In this webinar we will talk about the responses we received from over 450 residents and 11 local officials about their experiences\, how the event has changed their perceptions of tsunami risk\, and what lessons can be learned from the event from a risk communication stand-point. \nCheck out the Preliminary Report (https://bit.ly/2RgmSej). This research was funded by ICLR (Institute for Catastrophic Loss Reduction). \n  \n  \n 
URL:https://corccop.com/event/webinar-whats-that-sound-public-and-official-perceptions-of-the-january-2018-tsunami-warning-and-evacuation-in-the-alberni-valley/
ORGANIZER;CN="CORC CoP":MAILTO:corccom@gmail.com
END:VEVENT
BEGIN:VEVENT
DTSTART;TZID=UTC:20181029T080000
DTEND;TZID=UTC:20181029T170000
DTSTAMP:20260424T002104
CREATED:20181022T195321Z
LAST-MODIFIED:20181022T195321Z
UID:566-1540800000-1540832400@corccop.com
SUMMARY:Advancing and Empowering Disaster Risk Reduction in Canada
DESCRIPTION:Canada’s Platform for Disaster Risk Reduction will be hosting the Ninth Annual National Roundtable on Disaster Risk Reduction in Vancouver\, British Columbia on October 29\, 2018. This year’s theme for the Roundtable\, Advancing and Empowering Disaster Risk Reduction in Canada\, encourages participants to engage in a dialogue to build resilience and advance cross-sector collaboration. The Canadian Risk and Hazard Network’s (CRHNet) Annual Symposium 2018\, in addition to the 2018 Emergency Preparedness and Business Continuity (EPBC) Conference\, will follow at the same location from October 30 to November 1\, 2018. \nThe Roundtable serves as an inclusive multi-sectoral consultative mechanism to advance disaster risk reduction in Canada. This event is freeof charge and open to all interested participants\, including: the private sector\, all levels of government\, Indigenous peoples\, non-governmental organizations\, academia and the general public. \nWe look forward to seeing you in Vancouver! \nThe Eighth Annual National Roundtable on Disaster Risk Reduction took place on October 23-24\, 2017 in Halifax\, Nova Scotia. The report for this event will be available shortly. Reports of previous Roundtables are also available. \nContact Us\nFor any further questions or inquiries related to this event\, please contact Canada’s Platform Secretariat at:\nps.drr-rrc.sp@canada.ca\nPhone: 613-991-9748\n#CDNDRR
URL:https://corccop.com/event/advancing-and-empowering-disaster-risk-reduction-in-canada/
END:VEVENT
BEGIN:VEVENT
DTSTART;VALUE=DATE:20181016
DTEND;VALUE=DATE:20181017
DTSTAMP:20260424T002104
CREATED:20180927T180904Z
LAST-MODIFIED:20220908T173558Z
UID:534-1539648000-1539734399@corccop.com
SUMMARY:Online Discussion: From Warning to Protective Action
DESCRIPTION:More information and register here! \nMEOPAR and CORC COP cordially invite you to join an informal online conversation on Tuesday\, October 16 at 11:15 am Pacific (Vancouver) to talk about the relationship between warnings\, and responses to warnings\, and to learn about what factors might improve the chance that protective actions are taken. \n 
URL:https://corccop.com/event/online-discussion-from-warning-to-protective-action/
ORGANIZER;CN="CORC CoP":MAILTO:corccom@gmail.com
END:VEVENT
BEGIN:VEVENT
DTSTART;TZID=America/Vancouver:20180704T153000
DTEND;TZID=America/Vancouver:20180704T163000
DTSTAMP:20260424T002104
CREATED:20180703T170543Z
LAST-MODIFIED:20220908T173122Z
UID:412-1530718200-1530721800@corccop.com
SUMMARY:Understanding and Modeling Weather and Climate Extremes: Challenges and Opportunities for Science and Society
DESCRIPTION:One of today’s major challenges in climate sciences is how to use our state-of-the-art models and climate system knowledge to inform decision making regarding societal responses to climate change. Among the five key reasons for concern\, according to the Intergovernmental Panel on Climate Change (IPCC)\, are the risks from weather and climate extremes. Severe impacts could be prevented or alleviated through appropriate adaptation measures and better preparedness. \nWeather and climate extremes are influenced by a complex interplay of natural and anthropogenic factors that determine their occurrence\, frequency\, and intensity. Adaptation planning is challenged to take into account near- and long term variability and changes in weather and climate extremes and associated uncertainties. Two different approaches will be presented to show how the influence of large-scale circulation patterns\, such as atmospheric blocking and atmospheric rivers\, can be utilized to improve our understanding and simulation of heatwaves and extreme precipitation events\, respectively. The uncertainties related to simulations of heatwaves and their dynamical drivers is investigated using large ensembles of state-of-the-art global and regional climate models. For the case of extreme precipitation\, a model chain approach from a high-resolution Earth System Model to a convection permitting Numerical Weather Prediction model is employed. Different opportunities to provide impact-relevant information on changes in weather and climate extremes will be presented\, which involves\, for instance\, finding appropriated indicators and incorporating process understanding in extreme value distributions. \nPresentation by Dr. Jana Sillmann\, Research Director\, CICERO
URL:https://corccop.com/event/understanding-and-modeling-weather-and-climate-extremes-challenges-and-opportunities-for-science-and-society/
LOCATION:UVic University House 1\, Room 2\, 2489 Sinclair Road\, Victoria\, BC\, Canada\, Victoria\, British Columbia\, Canada
END:VEVENT
BEGIN:VEVENT
DTSTART;TZID=America/Vancouver:20180620T100000
DTEND;TZID=America/Vancouver:20180620T110000
DTSTAMP:20260424T002104
CREATED:20180606T025659Z
LAST-MODIFIED:20180606T142504Z
UID:173-1529488800-1529492400@corccop.com
SUMMARY:Our Incredible Shrinking Island: Climate Science Public Outreach
DESCRIPTION:Our Incredible Shrinking Island: Climate Science Public Outreach Information Sessions on Prince Edward Island \nLive webinar presented by Dr. Adam Fenech\, UPEI Climate Lab \nThe University of Prince Edward Island Climate Lab has undertaken a travelling road show of public information sessions on sea-level rise\, coastal erosion and their potential effects on the island province. The lab\, which undertakes research on climate change vulnerability\, impacts and adaptation\, did a similar series of presentations four years ago\, but had a strong incentive to visit over eight communities again this year. The first was funding from the Ecology Action Centre. The second was the new science surrounding the rate of sea level rise. For the last 30 years\, the Intergovernmental Panel on Climate Change\, the world’s leading authority on climate change science\, advised planning for a one metre of sea-level rise. The new science says it could be as much as three times that. The star of the show is CLIVE (Coastal Impacts Visualization Environment)\, a visualization tool developed by the UPEI Climate Lab and Simon Fraser University’s Spatial Interface Research Lab to show the impact of future coastal erosion\, sea-level rise and storm surges. Using a game controller\, users can fly over a 3D representation of PEI and zoom in on their home or community. They then select different erosion and sea-level rise scenarios to see how they will affect the land. Results of showing CLIVE to PEI communities have proved an increase in knowledge and awareness about climate change impacts; an increase in the concern over these impacts; and a willingness to adapt or “take action.” This webinar will provide more details.
URL:https://corccop.com/event/our-incredible-shrinking-island-climate-science-public-outreach/
ORGANIZER;CN="Cindy Marven":MAILTO:corccom@gmail.com
END:VEVENT
BEGIN:VEVENT
DTSTART;TZID=America/Halifax:20180614T103000
DTEND;TZID=America/Halifax:20180614T120000
DTSTAMP:20260424T002104
CREATED:20180606T010519Z
LAST-MODIFIED:20180608T203550Z
UID:156-1528972200-1528977600@corccop.com
SUMMARY:Risk Communication at the Local Level (CMOS Panel Session)
DESCRIPTION:Panelists: Max Liboiron (MUN)\, Rodd Laing (Gov’t of Nunatsiavut)\, and Alex Zahara (MUN). \nHost: Joel Finnis \nResearch on science and risk communication has consistently emphasized the importance of collaboration between impacted communities (‘publics’) and accredited expert groups (whether government agencies\, academia\, industry\, or NGOs)\, in order to foster trust and ensure community needs are being accounted for. Although meaningful community collaboration can be difficult to achieve\, it potentially avoids problems of one-way expert-to-public communication\, which assumes risk is effectively mitigated by increasing public attention to expert knowledge. This ‘information deficit’ communication model privileges accredited expert perceptions of what constitutes relevant\, timely\, and accessible communication against local expertise and contexts. Communities can differ considerably from experts in their interpretation of these characteristics\, beginning with how risks are defined and prioritized. While many agencies have no direct experience of a specific hazard or impacted activities\, community knowledge is always a factor when receiving outside information. For example\, ‘timely’ monitoring of hazards by accredited experts may be poorly received by communities that prioritize prevention\, especially when hazards are understood by communities to be long-term and ongoing (e.g. the “event” of methyl mercury contamination as a consequence of hydro-electric development against a long-term trend of extraction and encroachment). Finally\, efforts to improve ‘accessibility’ often focus on delivering streamlined\, simple messaging around nuanced problems; this can become an issue when communities are accustomed to navigating complexity\, and are aware that higher level information exists but is not disseminated. These disconnections are less likely to occur if communities and risk-related agencies actively collaborate on research and risk communication/management planning. These concerns\, and ways forward\, will be addressed in a panel discussion\, with input from social/natural scientists and environmental managers\, sharing lessons drawn from their recent collaborations on plastic pollution\, sea ice stability\, Muskrat Falls flooding and contamination\, and wildfire management.
URL:https://corccop.com/event/cmos-town-hall-panel-host-joel-finnis-risk-communication-at-the-local-level/
LOCATION:Halifax Convention Centre\, 1650 Argyle St\, Halifax\, Nova Scotia\, B3J 0E6\, Canada
END:VEVENT
END:VCALENDAR